BEGIN:VCALENDAR
VERSION:2.0
PRODID:-//ChamberMaster//Event Calendar 2.0//EN
METHOD:PUBLISH
X-PUBLISHED-TTL:P3D
REFRESH-INTERVAL:P3D
CALSCALE:GREGORIAN
BEGIN:VEVENT
DTSTART:20220709T113000Z
DTEND:20220709T133000Z
X-MICROSOFT-CDO-ALLDAYEVENT:FALSE
SUMMARY:Bird Walk
DESCRIPTION:Saturday\, July 9\, 7:30-9:30am\n\nBird Walk. York County Audubon birders lead a guided walk around the Wells Reserve property. Beginners welcome. Please bring binoculars if you have them. Free with site admission. Registration required at suzanne@wellsnerr.org or 207-646-1555 x116. FMI wellsreserve.org/calendar.
X-ALT-DESC;FMTTYPE=text/html:<span style="font-family:calibri\,sans-serif\;"><span style="font-size:11.0pt\;">Saturday\, July 9\, 7:30-9:30am</span></span><br />\n<span style="font-family:calibri\,sans-serif\;"><span style="font-size:11.0pt\;">Bird Walk. York County Audubon birders lead a guided walk around the Wells Reserve property. Beginners welcome. Please bring binoculars if you have them. Free with site admission. Registration required at suzanne@wellsnerr.org or 207-646-1555 x116. FMI wellsreserve.org/calendar.</span></span><br />\n&nbsp\;
LOCATION:Wells Reserve at Laudholm 342 Laudholm Farm Rd Wells ME 04090 wellsreserve.org
UID:e.3240.3229
SEQUENCE:3
DTSTAMP:20260424T151946Z
URL:https://www.wellschamber.org/events/details/bird-walk-3229
END:VEVENT

END:VCALENDAR
