BEGIN:VCALENDAR
VERSION:2.0
PRODID:-//ChamberMaster//Event Calendar 2.0//EN
METHOD:PUBLISH
X-PUBLISHED-TTL:P3D
REFRESH-INTERVAL:P3D
CALSCALE:GREGORIAN
BEGIN:VEVENT
DTSTART:20220706T110000Z
DTEND:20220706T140000Z
X-MICROSOFT-CDO-ALLDAYEVENT:FALSE
SUMMARY:Bird Banding Demonstration
DESCRIPTION:Wednesday\, July 6\, 7-10am\n\nBird Banding Demonstration. Visit the bird banding station at the Wells Reserve at Laudholm\, where scientists from the Biodiversity Research Institute and the Maine Medical Center Research Institute study bird migration\, breeding activities\, life spans\, and vector ecology. Free with site admission. 342 Laudholm Farm Rd\, Wells. 207-646-1555 wellsreserve.org.
X-ALT-DESC;FMTTYPE=text/html:<span style="font-family:calibri\,sans-serif\;"><span style="font-size:11.0pt\;">Wednesday\, July 6\, 7-10am</span></span><br />\n<span style="font-family:calibri\,sans-serif\;"><span style="font-size:11.0pt\;">Bird Banding Demonstration. Visit the bird banding station at the Wells Reserve at Laudholm\, where scientists from the Biodiversity Research Institute and the Maine Medical Center Research Institute study bird migration\, breeding activities\, life spans\, and vector ecology. Free with site admission. 342 Laudholm Farm Rd\, Wells. 207-646-1555 wellsreserve.org.</span></span><br />\n&nbsp\;
LOCATION:Wells Reserve at Laudholm 342 Laudholm Farm Rd Wells ME 04090 wellsreserve.org
UID:e.3240.3227
SEQUENCE:3
DTSTAMP:20260424T151025Z
URL:https://www.wellschamber.org/events/details/bird-banding-demonstration-3227
END:VEVENT

END:VCALENDAR
