BEGIN:VCALENDAR
VERSION:2.0
PRODID:-//ChamberMaster//Event Calendar 2.0//EN
METHOD:PUBLISH
X-PUBLISHED-TTL:P3D
REFRESH-INTERVAL:P3D
CALSCALE:GREGORIAN
BEGIN:VEVENT
DTSTART:20260304T213000Z
DTEND:20260305T010000Z
X-MICROSOFT-CDO-ALLDAYEVENT:FALSE
SUMMARY:BINGO-Wednesday's
DESCRIPTION:BINGO - Open to the Public\n\nWeather permitting call (207) 646-7775 if in doubt \n\nDoors open at 4:30pm \n\nDelicious affordable food off the grill\n\nGames start at 6pm\n\n16+  Starting package $20\n\nWIN CASH
X-ALT-DESC;FMTTYPE=text/html:<strong><span style="font-size:18px">BINGO - Open to the Public<br />\nWeather permitting call (207) 646-7775 if in doubt&nbsp\;</span></strong><br />\n<span style="color:rgb(51\, 51\, 51)\; font-family:sans-serif\,arial\,verdana\,trebuchet ms\; font-size:16px">Doors open at 4:30pm&nbsp\;<br />\nDelicious affordable food off the grill<br />\nGames start at 6pm<br />\n16+&nbsp\; Starting package $20<br />\n<strong>WIN CASH</strong></span>
LOCATION:Wells Ogunquit Center at Moody 300 Post Rd. Rt. 1 Wells\, ME 04090
UID:e.3240.6441
SEQUENCE:3
DTSTAMP:20260419T145031Z
URL:https://www.wellschamber.org/events/details/bingo-wednesday-s-03-04-2026-6441
END:VEVENT

END:VCALENDAR
