BEGIN:VCALENDAR
VERSION:2.0
PRODID:-//ChamberMaster//Event Calendar 2.0//EN
METHOD:PUBLISH
X-PUBLISHED-TTL:P3D
REFRESH-INTERVAL:P3D
CALSCALE:GREGORIAN
BEGIN:VEVENT
DTSTART;VALUE=DATE:20220729
DTEND;VALUE=DATE:20220730
TRANSP:TRANSPARENT
X-MICROSOFT-CDO-ALLDAYEVENT:TRUE
SUMMARY:Art by the Sea at Oqunquit Museum of American Art
DESCRIPTION:After a two-year hiatus\, OMAA invites you to a completely live and reimagined Art by the Sea. Finding ourselves back together in 2022\, it seems only fitting to welcome you with a Roaring 20s celebration of the museum. Whether you're a flapper or a bootlegger\, you'll enjoy our swing band and dancing under a tent\, indoor and outdoor bars\, signature cocktails\, period bites and our signature live and silent auctions with items for every budget.\n\n\n\nSo put on your "glad rags" and we'll put on the ritz to celebrate this amazing cause.\n\n\n\nAuction | Live Music | Dancing | Food | Drinks\n\n\n\nSaturday\, August 20\, 5   8pm. Tickets are $200.\n\n\n\nAll proceeds benefit the Ogunquit Museum of American Art.
X-ALT-DESC;FMTTYPE=text/html:After a two-year hiatus\, OMAA invites you to a completely live and reimagined Art by the Sea. Finding ourselves back together in 2022\, it seems only fitting to welcome you with a Roaring 20s celebration of the museum. Whether you&rsquo\;re a flapper or a bootlegger\, you&rsquo\;ll enjoy our swing band and dancing under a tent\, indoor and outdoor bars\, signature cocktails\, period bites and our signature live and silent auctions with items for every budget.<br />\n<br />\nSo put on your &ldquo\;glad rags&rdquo\; and we&rsquo\;ll put on the ritz to celebrate this amazing cause.<br />\n<br />\nAuction | Live Music | Dancing | Food | Drinks<br />\n<br />\nSaturday\, August 20\, 5 &ndash\; 8pm. Tickets are $200.<br />\n<br />\nAll proceeds benefit the Ogunquit Museum of American Art.&nbsp\;
LOCATION:543 Shore Road Ogunquit\, ME 03907
UID:e.3240.3293
SEQUENCE:3
DTSTAMP:20260424T152840Z
URL:https://www.wellschamber.org/events/details/art-by-the-sea-at-oqunquit-museum-of-american-art-3293
END:VEVENT

END:VCALENDAR
