BEGIN:VCALENDAR
VERSION:2.0
PRODID:-//ChamberMaster//Event Calendar 2.0//EN
METHOD:PUBLISH
X-PUBLISHED-TTL:P3D
REFRESH-INTERVAL:P3D
CALSCALE:GREGORIAN
BEGIN:VEVENT
DTSTART;VALUE=DATE:20260329
DTEND;VALUE=DATE:20260330
TRANSP:TRANSPARENT
X-MICROSOFT-CDO-ALLDAYEVENT:TRUE
SUMMARY:Art at the Inn Presented by The Lady Mary Inn
DESCRIPTION:Showcasing Steven Morello & Emilie Talpin's \n\n\n\n\n\nAs part of our commitment to support and showcase local talent\, we have partnered with several local artists to have their work displayed at The Lady Mary Inn. Each month this summer\, we are featuring a different local artist in the music room allowing them to hang a variety of their artwork to really capture the breadth of their work.\n\n\n\nJoin us on Sunday\, March 29th from 4:00pm to 6:00pm for the opening of this exhibit. Meet the artists\, enjoy refreshments and view the art on exhibit in the Music room as well as all of the art in the Manor.\n\nThis is a complimentary event.
X-ALT-DESC;FMTTYPE=text/html:<div>&nbsp\;</div>\n\n<div>\n<div>\n<p>&nbsp\;</p>\n\n<p>Showcasing Steven Morello &amp\; Emilie Talpin's&nbsp\;</p>\n</div>\n\n<div>\n<div>\n<div>\n<p>As part of our commitment to support and showcase local talent\, we have partnered with several local artists to have their work displayed at The Lady Mary Inn. Each month this summer\, we are featuring a different local artist in the music room allowing them to hang a variety of their artwork to really capture the breadth of their work.<br>\n<br>\n<strong>Join us on Sunday\, March 29th </strong>from 4:00pm to 6:00pm for the opening of this exhibit. Meet the artists\, enjoy refreshments and view the art on exhibit in the Music room as well as all of the art in the Manor.</p>\n\n<p>This is a complimentary event.</p>\n</div>\n</div>\n</div>\n</div>\n
LOCATION:2 Elm Street North Berwick\, Maine
UID:e.3240.6799
SEQUENCE:3
DTSTAMP:20260419T125927Z
URL:https://www.wellschamber.org/events/details/art-at-the-inn-02-26-2026-6799
END:VEVENT

END:VCALENDAR
