BEGIN:VCALENDAR
VERSION:2.0
PRODID:-//ChamberMaster//Event Calendar 2.0//EN
METHOD:PUBLISH
X-PUBLISHED-TTL:P3D
REFRESH-INTERVAL:P3D
CALSCALE:GREGORIAN
BEGIN:VEVENT
DTSTART:20230713T173000Z
DTEND:20230713T190000Z
X-MICROSOFT-CDO-ALLDAYEVENT:FALSE
SUMMARY:Adult Crafternoon: Zentangle with Joyce Amend
DESCRIPTION:What is Zentangle?  Zentagle combines simple shapes and lines to make beautiful and interesting artworks. No artistic or drawing experience is needed! There is no right or wrong way to Zentangle everyone can enjoy!  Create drawings through an easy step-by-step process. Joyce will show you how! Zentangle is beautiful\, fun\, and relaxing. This free event is sponsored by the Friends of the Wells Public Library. *Registration is required* To register\, please contact Stefanie Claydon at sclaydon@wellstown.org or call the library at 207-646-8181.
X-ALT-DESC;FMTTYPE=text/html:<span style="color:black">What is Zentangle?&nbsp\; Zentagle combines simple shapes and lines to make beautiful and interesting artworks. No artistic or drawing experience is needed! There is no right or wrong way to Zentangle&hellip\;everyone can enjoy!&nbsp\; Create drawings through an easy step-by-step process. Joyce will show you how! Zentangle is beautiful\, fun\, and relaxing. This free event is sponsored by the Friends of the Wells Public Library. <strong>*Registration is required* </strong>To register\, please contact Stefanie Claydon at sclaydon@wellstown.org or call the library at 207-646-8181.&nbsp\;</span>
LOCATION:Wells Public Library 1434 Post Road Wells\, ME 04090
UID:e.3240.3786
SEQUENCE:3
DTSTAMP:20260423T175255Z
URL:https://www.wellschamber.org/events/details/adult-crafternoon-zentangle-with-joyce-amend-3786
END:VEVENT

END:VCALENDAR
