BEGIN:VCALENDAR
VERSION:2.0
PRODID:-//ChamberMaster//Event Calendar 2.0//EN
METHOD:PUBLISH
X-PUBLISHED-TTL:P3D
REFRESH-INTERVAL:P3D
CALSCALE:GREGORIAN
BEGIN:VEVENT
DTSTART:20220706T180000Z
DTEND:20220706T190000Z
X-MICROSOFT-CDO-ALLDAYEVENT:FALSE
SUMMARY:Adult Crafternoon: Needlefelting
DESCRIPTION:Adult Crafternoon: Needlefelting\n\nWednesday\, July 6 at 2 p.m. \n\nTo celebrate the Oceans of Possibilities theme for summer reading\, join us for an afternoon tutorial on making needle felted whales. All materials will be provided. This free event is sponsored by the Friends of the Wells Public Library. For more information\, please contact Stefanie Claydon at sclaydon@wellstown.org or call the library at 207-646-8181.
X-ALT-DESC;FMTTYPE=text/html:<strong><span style="border:none windowtext 1.0pt\;padding:0in\;"><span style="color:#336600\;"><span style="font-family:arial\,sans-serif\;"><span style="font-size:11.0pt\;">Adult Crafternoon: Needlefelting</span></span></span></span></strong><br />\n<strong><span style="border:none windowtext 1.0pt\;padding:0in\;"><span style="color:black\;"><span style="font-family:arial\,sans-serif\;"><span style="font-size:9.0pt\;">Wednesday\, July 6 at 2 p.m. </span></span></span></span></strong><br />\n<span style="border:none windowtext 1.0pt\;padding:0in\;">To celebrate the Oceans of Possibilities theme for summer reading\, join us for an afternoon tutorial on making needle felted whales. All materials will be provided. </span><span style="background:white\;"><span style="color:black\;">This free event is sponsored by the Friends of the Wells Public Library. For more information\, please contact Stefanie Claydon at sclaydon@wellstown.org or call the library at 207-646-8181.&nbsp\;</span></span><br />\n&nbsp\;
LOCATION:WELLS PUBLIC LIBRARY 1434 Post Road\, Wells\, ME 04090
UID:e.3240.3261
SEQUENCE:3
DTSTAMP:20260424T152052Z
URL:https://www.wellschamber.org/events/details/adult-crafternoon-needlefelting-3261
END:VEVENT

END:VCALENDAR
