BEGIN:VCALENDAR
VERSION:2.0
PRODID:-//ChamberMaster//Event Calendar 2.0//EN
METHOD:PUBLISH
X-PUBLISHED-TTL:P3D
REFRESH-INTERVAL:P3D
CALSCALE:GREGORIAN
BEGIN:VEVENT
DTSTART:20230729T150000Z
DTEND:20230729T190000Z
X-MICROSOFT-CDO-ALLDAYEVENT:FALSE
SUMMARY:9th Annual HarborFest
DESCRIPTION:Save the Date! Wells HarborFest is scheduled for July 29th\, 2023. The 9th annual HarborFest event will be held from 11 am until 3 pm at Wells Harbor Community Park\, located at 331 Harbor Road. Join us for a day of activities\, games\, food\, fun and more. There is fun for the whole family to enjoy\, including: Bounce House\, Lobster Trap Toss\, Wells Rotary BBQ\, Kite Making\, Antique Cars\, Bubble Soccer\, Glitter Tattoos\, Food Trucks\, Wells Police Department Canine Demo\, Drone Zone Activity\, Live Music\, Congdon's Doughnut Eating Contest\, Marine Life Touch Tanks\, Ice Cream\, Crabbing Activity\, Live Dancing\, Sandcastle Making ... and so much more! FMI Contact Rebekah at 207-361-8130 or email rkelley@wellstown.org
X-ALT-DESC;FMTTYPE=text/html:Save the Date! Wells HarborFest is scheduled for July 29th\, 2023. The 9th annual HarborFest event will be held from 11 am until 3 pm at Wells Harbor Community Park\, located at 331 Harbor Road. Join us for a day of activities\, games\, food\, fun and more. There is fun for the whole family to enjoy\, including: Bounce House\, Lobster Trap Toss\, Wells Rotary BBQ\, Kite Making\, Antique Cars\, Bubble Soccer\, Glitter Tattoos\, Food Trucks\, Wells Police Department Canine Demo\, Drone Zone Activity\, Live Music\, Congdon&#39\;s Doughnut Eating Contest\, Marine Life Touch Tanks\, Ice Cream\, Crabbing Activity\, Live Dancing\, Sandcastle Making ... and so much more! FMI Contact Rebekah at 207-361-8130 or email rkelley@wellstown.org
LOCATION:Wells Harbor Community Park\, 331 Harbor Rd\, Wells\, ME 04090
UID:e.3240.3828
SEQUENCE:3
DTSTAMP:20260423T173357Z
URL:https://www.wellschamber.org/events/details/9th-annual-harborfest-3828
END:VEVENT

END:VCALENDAR
