BEGIN:VCALENDAR
VERSION:2.0
PRODID:-//ChamberMaster//Event Calendar 2.0//EN
METHOD:PUBLISH
X-PUBLISHED-TTL:P3D
REFRESH-INTERVAL:P3D
CALSCALE:GREGORIAN
BEGIN:VEVENT
DTSTART:20231028T230000Z
DTEND:20231029T030000Z
X-MICROSOFT-CDO-ALLDAYEVENT:FALSE
SUMMARY:6th Annual GSB Halloween Spooktacular!
DESCRIPTION:Come join in the fun for the best Halloween party in Southern Maine. Creepy Cocktails\, Costume Contest with Prizes\, Scary Movies on the big screens\, and special guest performance Spooky Joe. Free Admission.
X-ALT-DESC;FMTTYPE=text/html:Come join in the fun for the best Halloween party in Southern Maine. Creepy Cocktails\, Costume Contest with Prizes\, Scary Movies on the big screens\, and special guest performance Spooky Joe. Free Admission.
LOCATION:Garden Street Bowl
UID:e.3240.3844
SEQUENCE:3
DTSTAMP:20260423T140457Z
URL:https://www.wellschamber.org/events/details/6th-annual-gsb-halloween-spooktacular-3844
END:VEVENT

END:VCALENDAR
