BEGIN:VCALENDAR
VERSION:2.0
PRODID:-//ChamberMaster//Event Calendar 2.0//EN
METHOD:PUBLISH
X-PUBLISHED-TTL:P3D
REFRESH-INTERVAL:P3D
CALSCALE:GREGORIAN
BEGIN:VEVENT
DTSTART:20221029T180000Z
DTEND:20221029T200000Z
X-MICROSOFT-CDO-ALLDAYEVENT:FALSE
SUMMARY:3rd Annual Fright or Flight Trick or Treat
DESCRIPTION:Trick or Treat from Plane to Plane at Sanford Seacoast Regional Airport\, 199 Airport Road\, Sanford.  Click here for flyer.
X-ALT-DESC;FMTTYPE=text/html:Trick or Treat from Plane to Plane at Sanford Seacoast Regional Airport\, 199 Airport Road\, Sanford.&nbsp\; Click <a href="https://chambermaster.blob.core.windows.net/userfiles/UserFiles/chambers/3240/File/FrightorFlight2022.pdf">here</a> for flyer.
LOCATION:199 Airport Road\, Sanford
UID:e.3240.3342
SEQUENCE:3
DTSTAMP:20260424T101310Z
URL:https://www.wellschamber.org/events/details/3rd-annual-fright-or-flight-trick-or-treat-3342
END:VEVENT

END:VCALENDAR
