BEGIN:VCALENDAR
VERSION:2.0
PRODID:-//ChamberMaster//Event Calendar 2.0//EN
METHOD:PUBLISH
X-PUBLISHED-TTL:P3D
REFRESH-INTERVAL:P3D
CALSCALE:GREGORIAN
BEGIN:VEVENT
DTSTART:20220705T010000Z
DTEND:20220705T030000Z
X-MICROSOFT-CDO-ALLDAYEVENT:FALSE
SUMMARY:2nd Annual Fireworks Extravaganza!
DESCRIPTION:The Runaway and Pilots Cove Cafe present their 2nd Annual Fireworks Extravaganza on July 4th 2022!\n\n\n\nSave the Date! The rumors are true friends\, July 4th we'll be once again lighting up the sky over the Sanford Airport! And this year its gonna be even bigger! $10 VIP ticket includes priority viewing area and access to The Runaway's 27 tap beer garden and cocktail bar! DJ East-wood will be spinning the best throwbacks from the 80s/90s for the evening evening with fireworks show at 9pm!\n\n\n\nThe Runaway on Sanford Seacoast Regional Airport is Southern Maine's premier entertainment venue boasting an outdoor craft beer garden with 27 taps\, cocktail bar and full food menu.\n\n\n\nIG/FB @therunawayatpcc\n\n\n\nTickets available now at www.therunawayatpcc.com
X-ALT-DESC;FMTTYPE=text/html:The Runaway and Pilots Cove Cafe present their 2nd Annual Fireworks Extravaganza on July 4th 2022!<br />\n<br />\nSave the Date! The rumors are true friends\, July 4th we&#39\;ll be once again lighting up the sky over the Sanford Airport! And this year its gonna be even bigger! $10 VIP ticket includes priority viewing area and access to The Runaway&#39\;s 27 tap beer garden and cocktail bar! DJ East-wood will be spinning the best throwbacks from the 80s/90s for the evening evening with fireworks show at 9pm!<br />\n<br />\nThe Runaway on Sanford Seacoast Regional Airport is Southern Maine&#39\;s premier entertainment venue boasting an outdoor craft beer garden with 27 taps\, cocktail bar and full food menu.<br />\n<br />\nIG/FB @therunawayatpcc<br />\n<br />\nTickets available now at www.therunawayatpcc.com<br />\n<br />\n&nbsp\;
LOCATION:199 Airport Rd Sanford\, Maine
UID:e.3240.2700
SEQUENCE:3
DTSTAMP:20260424T151919Z
URL:https://www.wellschamber.org/events/details/2nd-annual-fireworks-extravaganza-2700
END:VEVENT

END:VCALENDAR
