BEGIN:VCALENDAR
VERSION:2.0
PRODID:-//ChamberMaster//Event Calendar 2.0//EN
METHOD:PUBLISH
X-PUBLISHED-TTL:P3D
REFRESH-INTERVAL:P3D
CALSCALE:GREGORIAN
BEGIN:VEVENT
DTSTART:20230826T150000Z
DTEND:20230826T190000Z
X-MICROSOFT-CDO-ALLDAYEVENT:FALSE
SUMMARY:22nd Annual CHILI FEST
DESCRIPTION:22nd Annual Chili-Fest\, sponsored by the Wells Chamber of Commerce. Sanctioned by the International Chili Society including the "People's Choice" Competition.  Food\, vendors and more.\n\n\n\nClick here for a Vendor Application.\n\nClick here for Sponsorship Information.
X-ALT-DESC;FMTTYPE=text/html:<strong><span style="font-family:arial\,sans-serif\;"><span style="font-size:12.0pt\;">22nd Annual Chili-Fest</span></span></strong><span style="font-family:arial\,sans-serif\;"><span style="font-size:12.0pt\;">\, sponsored by the Wells Chamber of Commerce. Sanctioned by the International Chili Society including the &ldquo\;People&rsquo\;s Choice&rdquo\; Competition.&nbsp\; Food\, vendors and more.<br />\n<br />\nClick <u><a href="https://chambermaster.blob.core.windows.net/userfiles/UserFiles/chambers/3240/File/ChiliFestVendorapplication2023.pdf">here</a></u> for a Vendor Application.<br />\nClick <u><a href="https://chambermaster.blob.core.windows.net/userfiles/UserFiles/chambers/3240/File/2023Chili-Festsponsorshippackagedetails.pdf">here</a></u> for Sponsorship Information.</span></span><br />\n&nbsp\;
LOCATION:Wells Junior High School Campus\, 1470 Post Road\, Route 1\, Wells.
UID:e.3240.3360
SEQUENCE:3
DTSTAMP:20260423T155020Z
URL:https://www.wellschamber.org/events/details/22nd-annual-chili-fest-3360
END:VEVENT

END:VCALENDAR
