BEGIN:VCALENDAR
VERSION:2.0
PRODID:-//ChamberMaster//Event Calendar 2.0//EN
METHOD:PUBLISH
X-PUBLISHED-TTL:P3D
REFRESH-INTERVAL:P3D
CALSCALE:GREGORIAN
BEGIN:VEVENT
DTSTART:20230819T210000Z
DTEND:20230820T010000Z
X-MICROSOFT-CDO-ALLDAYEVENT:FALSE
SUMMARY:2023 Art by the Sea Auction & Gala: Cheers to 70 Years!
DESCRIPTION:OMAA is excited to announce the 2023 Art by the Sea Auction & Gala. This year's event will celebrate OMAA's 70th Birthday in stellar fashion\, with food\, drinks\, cake\, art\, and of course live and silent auctions. We hope you can join us!\n\nPurchase your Tickets here!\n\nClick here to see a sneak peak of this year's auction items.
X-ALT-DESC;FMTTYPE=text/html:<p>OMAA is excited to announce the 2023 Art by the Sea Auction &amp\; Gala. This year&rsquo\;s event will celebrate OMAA&rsquo\;s 70th Birthday in stellar fashion\, with food\, drinks\, cake\, art\, and of course live and silent auctions. We hope you can join us!</p>\n\n<p><a href="https://ogunquitmuseumofamericanart.ticketing.veevartapp.com/tickets/view/list/art-by-the-sea" rel="noopener" target="_blank">Purchase your Tickets here!</a></p>\n\n<p><a href="https://ogunquitmuseum.org/sneak-preview-of-art-by-the-sea-auction-items-2/" rel="noopener" target="_blank">Click here to see a sneak peak of this year&rsquo\;s auction items.</a></p>\n
LOCATION:Ogunquit Museum of American Art 543 Shore Road Ogunquit\, ME 03907
UID:e.3240.3741
SEQUENCE:3
DTSTAMP:20260423T155853Z
URL:https://www.wellschamber.org/events/details/2023-art-by-the-sea-auction-gala-cheers-to-70-years-3741
END:VEVENT

END:VCALENDAR
