BEGIN:VCALENDAR
VERSION:2.0
PRODID:-//ChamberMaster//Event Calendar 2.0//EN
METHOD:PUBLISH
X-PUBLISHED-TTL:P3D
REFRESH-INTERVAL:P3D
CALSCALE:GREGORIAN
BEGIN:VEVENT
DTSTART:20230715T130000Z
DTEND:20230716T090000Z
X-MICROSOFT-CDO-ALLDAYEVENT:FALSE
SUMMARY:19th Annual NATIVE AMERICAN POW WOW
DESCRIPTION:19th Annual Native American Pow Wow features music\, dance\, crafts\, demonstrations and more. The event is sponsored by the New Hampshire Intertribal Native American Council. Saturday and Sunday\, 9:00am-5:00pm.  FMI 603-651-8769.
X-ALT-DESC;FMTTYPE=text/html:19th Annual Native American Pow Wow features music\, dance\, crafts\, demonstrations and more.&nbsp\;The event is sponsored by the New Hampshire Intertribal Native American Council. Saturday and Sunday\, 9:00am-5:00pm.&nbsp\; FMI 603-651-8769.
LOCATION:Wells Harbor Park\, 331 Harbor Road\, Wells
UID:e.3240.3358
SEQUENCE:3
DTSTAMP:20260423T173744Z
URL:https://www.wellschamber.org/events/details/19th-annual-native-american-pow-wow-3358
END:VEVENT

END:VCALENDAR
