BEGIN:VCALENDAR
VERSION:2.0
PRODID:-//ChamberMaster//Event Calendar 2.0//EN
METHOD:PUBLISH
X-PUBLISHED-TTL:P3D
REFRESH-INTERVAL:P3D
CALSCALE:GREGORIAN
BEGIN:VEVENT
DTSTART:20221001T150000Z
DTEND:20221001T190000Z
X-MICROSOFT-CDO-ALLDAYEVENT:FALSE
SUMMARY:13th Annual Family Jamboree
DESCRIPTION:13th Annual Family Jamboree sponsored by the Wells Chamber of Commerce.  FREE family fun day of games\, crafts\, food\, vendors and more!  This is a shine only event.\n\n\n\nClick here for a Vendor Application\n\n\n\nClick here for Sponsorship Information\n\n\n\nGames include a Doughnut/Apple Eating Challenge\, Ball Toss\, Beanbag Toss and Relay Races.  Activity Booths include Make Your Own Beaded Bracelet\, Temporary Tattoo\, Pumpkin Decorating and Make Your Own Head Band.  New for 2022 is Explore Archery with Ranger Tom\, Decorating & Flying Kites and Story Time at 1:30 and 2:00pm with Allison from the Wells Public Library.\n\n\n\nThe Wells Fire Department will be there with their Junior Firefighter Obstacle Course\, Knock Down the Flames and Emergency Vehicle displays.\n\n\n\nThe Wells Police Department will have Child Safety Seat Technician on hand and Emergency Vehicle displays.\n\n\n\nTony Hafford will be there with his "Vera's Vittles" food truck selling burgers\, hot dogs and Sausage sandwiches.
X-ALT-DESC;FMTTYPE=text/html:<strong><span style="font-family:arial\,sans-serif\;"><span style="font-size:12.0pt\;">13<sup>th</sup> Annual Family Jamboree</span></span></strong><span style="font-family:arial\,sans-serif\;"><span style="font-size:12.0pt\;"> sponsored by the Wells Chamber </span></span><span style="font-family:arial\,sans-serif\;"><span style="font-size:12.0pt\;">of Commerce.&nbsp\; FREE family fun day of games\, crafts\, food\, vendors and more!&nbsp\; This is a shine only event.<br />\n<br />\nClick <a href="https://chambermaster.blob.core.windows.net/userfiles/UserFiles/chambers/3240/File/JamboreeVendorApplication2022.pdf">here</a> for a Vendor Application<br />\n<br />\nClick <a href="https://chambermaster.blob.core.windows.net/userfiles/UserFiles/chambers/3240/File/FamilyJamboreesponsorshipdetails2022.pdf">here</a> for Sponsorship Information<br />\n<br />\nGames include a Doughnut/Apple Eating Challenge\, Ball Toss\, Beanbag Toss and Relay Races.&nbsp\; Activity Booths include Make Your Own Beaded Bracelet\, Temporary Tattoo\, Pumpkin Decorating and Make Your Own Head Band.&nbsp\; New for 2022 is Explore Archery with Ranger Tom\, Decorating &amp\; Flying Kites and Story Time at 1:30 and 2:00pm with Allison from the Wells Public Library.<br />\n<br />\nThe Wells Fire Department will be there with their Junior Firefighter Obstacle Course\, Knock Down the Flames and Emergency Vehicle displays.<br />\n<br />\nThe Wells Police Department will have Child Safety Seat Technician on hand and Emergency Vehicle displays.<br />\n<br />\nTony Hafford will be there with his &quot\;Vera&#39\;s Vittles&quot\; food truck selling burgers\, hot dogs and Sausage sandwiches.</span></span>
LOCATION:Wells Harbor Park\, 331 Harbor Road
UID:e.3240.2042
SEQUENCE:3
DTSTAMP:20260424T101110Z
URL:https://www.wellschamber.org/events/details/13th-annual-family-jamboree-2042
END:VEVENT

END:VCALENDAR
